BEGIN:VCALENDAR
VERSION:2.0
PRODID:-//Syracuse American Legion - ECPv6.15.20//NONSGML v1.0//EN
CALSCALE:GREGORIAN
METHOD:PUBLISH
X-WR-CALNAME:Syracuse American Legion
X-ORIGINAL-URL:https://syracuseamericanlegion.com
X-WR-CALDESC:Events for Syracuse American Legion
REFRESH-INTERVAL;VALUE=DURATION:PT1H
X-Robots-Tag:noindex
X-PUBLISHED-TTL:PT1H
BEGIN:VTIMEZONE
TZID:UTC
BEGIN:STANDARD
TZOFFSETFROM:+0000
TZOFFSETTO:+0000
TZNAME:UTC
DTSTART:20230101T000000
END:STANDARD
END:VTIMEZONE
BEGIN:VEVENT
DTSTART;TZID=UTC:20240621T130000
DTEND;TZID=UTC:20240621T160000
DTSTAMP:20260425T233352
CREATED:20240526T160521Z
LAST-MODIFIED:20240526T160723Z
UID:10000023-1718974800-1718985600@syracuseamericanlegion.com
SUMMARY:Veterans Resource Fair\, Solvay NY
DESCRIPTION:Congressman Brandon Williams is sponsoring a Veterans Resource Fair on Friday\, June 21st\, 2024\, between 1:00 pm and 4:00 pm at the Woods Road Park Pavilion in Solvay NY.
URL:https://syracuseamericanlegion.com/event/veterans-resource-fair-solvay-ny/
LOCATION:Woods Road Park Pavilion\, 900 Woods Road\, Solvay\, NY\, 13209\, United States
ATTACH;FMTTYPE=image/jpeg:https://syracuseamericanlegion.com/wp-content/uploads/2024/05/20240621-Williams-Veterans-RF-scaled.jpg
END:VEVENT
END:VCALENDAR