BEGIN:VCALENDAR
VERSION:2.0
PRODID:-//Syracuse American Legion - ECPv6.15.20//NONSGML v1.0//EN
CALSCALE:GREGORIAN
METHOD:PUBLISH
X-WR-CALNAME:Syracuse American Legion
X-ORIGINAL-URL:https://syracuseamericanlegion.com
X-WR-CALDESC:Events for Syracuse American Legion
REFRESH-INTERVAL;VALUE=DURATION:PT1H
X-Robots-Tag:noindex
X-PUBLISHED-TTL:PT1H
BEGIN:VTIMEZONE
TZID:UTC
BEGIN:STANDARD
TZOFFSETFROM:+0000
TZOFFSETTO:+0000
TZNAME:UTC
DTSTART:20240101T000000
END:STANDARD
END:VTIMEZONE
BEGIN:VEVENT
DTSTART;TZID=UTC:20250117T080000
DTEND;TZID=UTC:20250120T170000
DTSTAMP:20260425T193229
CREATED:20241220T200530Z
LAST-MODIFIED:20241220T200727Z
UID:10000048-1737100800-1737392400@syracuseamericanlegion.com
SUMMARY:Dept. of New York - Mid-Winter Conference
DESCRIPTION:Details regarding Department’s Mid-Winter conference can be found on their web page at https://nylegion.net/news-events/mid-winter-conference/ .
URL:https://syracuseamericanlegion.com/event/dept-of-new-york-mid-winter-conference/
LOCATION:The Desmond Hotel – Albany\, 660 Albany Shaker Rd.\, Albany\, NY\, 12211\, United States
ATTACH;FMTTYPE=image/jpeg:https://syracuseamericanlegion.com/wp-content/uploads/2024/12/albdh-cp-desmond-albany-fort-orange-nightime-1.jpg
END:VEVENT
END:VCALENDAR