BEGIN:VCALENDAR
VERSION:2.0
PRODID:-//Syracuse American Legion - ECPv6.15.20//NONSGML v1.0//EN
CALSCALE:GREGORIAN
METHOD:PUBLISH
X-ORIGINAL-URL:https://syracuseamericanlegion.com
X-WR-CALDESC:Events for Syracuse American Legion
REFRESH-INTERVAL;VALUE=DURATION:PT1H
X-Robots-Tag:noindex
X-PUBLISHED-TTL:PT1H
BEGIN:VTIMEZONE
TZID:UTC
BEGIN:STANDARD
TZOFFSETFROM:+0000
TZOFFSETTO:+0000
TZNAME:UTC
DTSTART:20230101T000000
END:STANDARD
END:VTIMEZONE
BEGIN:VEVENT
DTSTART;TZID=UTC:20240618T180000
DTEND;TZID=UTC:20240618T210000
DTSTAMP:20260425T221640
CREATED:20240614T180523Z
LAST-MODIFIED:20240614T180523Z
UID:10000029-1718733600-1718744400@syracuseamericanlegion.com
SUMMARY:Baseball: Whitestown vs Valley Seniors
DESCRIPTION:
URL:https://syracuseamericanlegion.com/event/baseball-whitestown-vs-valley-seniors/
LOCATION:Sunnycrest Park Baseball Field\, 698 Robinson St.\, Syracuse\, NY\, 13203\, United States
ATTACH;FMTTYPE=image/jpeg:https://syracuseamericanlegion.com/wp-content/uploads/2024/06/20240618-Whitestown-vs-Seniors-scaled.jpg
ORGANIZER;CN="Charles Iavarone":MAILTO:al1468baseball@gmail.com
END:VEVENT
BEGIN:VEVENT
DTSTART;TZID=UTC:20240613T180000
DTEND;TZID=UTC:20240613T210000
DTSTAMP:20260425T221640
CREATED:20240521T211949Z
LAST-MODIFIED:20240526T154659Z
UID:10000020-1718301600-1718312400@syracuseamericanlegion.com
SUMMARY:Legion Baseball: Blue Sox vs. Juniors
DESCRIPTION:
URL:https://syracuseamericanlegion.com/event/legion-baseball-blue-sox-vs-juniors/
LOCATION:Sunnycrest Park Baseball Field\, 698 Robinson St.\, Syracuse\, NY\, 13203\, United States
ATTACH;FMTTYPE=image/jpeg:https://syracuseamericanlegion.com/wp-content/uploads/2024/05/20240526-Blue-Sox-vs-Juniors-scaled.jpg
ORGANIZER;CN="Charles Iavarone":MAILTO:al1468baseball@gmail.com
END:VEVENT
END:VCALENDAR