BEGIN:VCALENDAR
VERSION:2.0
PRODID:-//Syracuse American Legion - ECPv6.15.20//NONSGML v1.0//EN
CALSCALE:GREGORIAN
METHOD:PUBLISH
X-ORIGINAL-URL:https://syracuseamericanlegion.com
X-WR-CALDESC:Events for Syracuse American Legion
REFRESH-INTERVAL;VALUE=DURATION:PT1H
X-Robots-Tag:noindex
X-PUBLISHED-TTL:PT1H
BEGIN:VTIMEZONE
TZID:UTC
BEGIN:STANDARD
TZOFFSETFROM:+0000
TZOFFSETTO:+0000
TZNAME:UTC
DTSTART:20230101T000000
END:STANDARD
END:VTIMEZONE
BEGIN:VEVENT
DTSTART;TZID=UTC:20240615T120000
DTEND;TZID=UTC:20240615T150000
DTSTAMP:20260425T234119
CREATED:20240614T174716Z
LAST-MODIFIED:20240614T174716Z
UID:10000027-1718452800-1718463600@syracuseamericanlegion.com
SUMMARY:BASEBALL: Seniors Team vs Adrean Post
DESCRIPTION:
URL:https://syracuseamericanlegion.com/event/baseball-seniors-team-vs-adrean-post/
LOCATION:Notre Dame High School\, 2 Notre Dame Ln.\, Utica\, NY\, 13502\, United States
ATTACH;FMTTYPE=image/jpeg:https://syracuseamericanlegion.com/wp-content/uploads/2024/06/20240615-Seniors-vs-Adrean-scaled.jpg
ORGANIZER;CN="Charles Iavarone":MAILTO:al1468baseball@gmail.com
END:VEVENT
END:VCALENDAR