BEGIN:VCALENDAR
VERSION:2.0
PRODID:-//Syracuse American Legion - ECPv6.15.20//NONSGML v1.0//EN
CALSCALE:GREGORIAN
METHOD:PUBLISH
X-ORIGINAL-URL:https://syracuseamericanlegion.com
X-WR-CALDESC:Events for Syracuse American Legion
REFRESH-INTERVAL;VALUE=DURATION:PT1H
X-Robots-Tag:noindex
X-PUBLISHED-TTL:PT1H
BEGIN:VTIMEZONE
TZID:UTC
BEGIN:STANDARD
TZOFFSETFROM:+0000
TZOFFSETTO:+0000
TZNAME:UTC
DTSTART:20240101T000000
END:STANDARD
END:VTIMEZONE
BEGIN:VEVENT
DTSTART;TZID=UTC:20260321T120000
DTEND;TZID=UTC:20260321T140000
DTSTAMP:20260424T122022
CREATED:20260131T024249Z
LAST-MODIFIED:20260131T024249Z
UID:10000085-1774094400-1774101600@syracuseamericanlegion.com
SUMMARY:SYRACUSE POST 41 MARCH MEETING
DESCRIPTION:Meeting convenes at Noon. \nIf you would like a ride to and from the Hotel\, please reach out to the Post Commander at wgalvin002@gmail.com.
URL:https://syracuseamericanlegion.com/event/syracuse-post-41-march-meeting/
LOCATION:Marriott Syracuse Downtown\, 100 East Onondaga St.\, Syracuse\, NY\, 13202\, United States
ATTACH;FMTTYPE=image/png:https://syracuseamericanlegion.com/wp-content/uploads/2026/01/41.png
ORGANIZER;CN="William Galvion - Post Commander":MAILTO:wgalvin002@gmail.com
END:VEVENT
BEGIN:VEVENT
DTSTART;TZID=UTC:20260221T120000
DTEND;TZID=UTC:20260221T143000
DTSTAMP:20260424T122022
CREATED:20260131T023740Z
LAST-MODIFIED:20260131T023740Z
UID:10000083-1771675200-1771684200@syracuseamericanlegion.com
SUMMARY:SYRACUSE POST 41 FEBRUARY MEETING
DESCRIPTION:12:00 NOON at the Marriott Downtown Syracuse\, 500 S. Warren St.\, Syracuse NY. \nIf you would like to ride to and from the Hotel\, contact the Post commander at wgalvin002@gmail.com.
URL:https://syracuseamericanlegion.com/event/syracuse-post-41-february-meeting/
LOCATION:Marriott Syracuse Downtown\, 100 East Onondaga St.\, Syracuse\, NY\, 13202\, United States
ATTACH;FMTTYPE=image/png:https://syracuseamericanlegion.com/wp-content/uploads/2026/01/41.png
END:VEVENT
BEGIN:VEVENT
DTSTART;VALUE=DATE:20250716
DTEND;VALUE=DATE:20250720
DTSTAMP:20260424T122022
CREATED:20240325T165441Z
LAST-MODIFIED:20241126T222948Z
UID:10000003-1752624000-1752969599@syracuseamericanlegion.com
SUMMARY:2025 American Legion Department of New York Convention
DESCRIPTION:Get details from the Convention Web Page at the 2025 Convention.
URL:https://syracuseamericanlegion.com/event/2025-american-legion-department-of-new-york-convention/
LOCATION:Marriott Syracuse Downtown\, 100 East Onondaga St.\, Syracuse\, NY\, 13202\, United States
ATTACH;FMTTYPE=image/jpeg:https://syracuseamericanlegion.com/wp-content/uploads/2024/03/AdobeStock_467050702_Editorial_Use_Only-scaled.jpeg
ORGANIZER;CN="Onondaga County American Legion":MAILTO:onondagavets@gmail.com
END:VEVENT
END:VCALENDAR