BEGIN:VCALENDAR
VERSION:2.0
PRODID:-//Syracuse American Legion - ECPv6.15.20//NONSGML v1.0//EN
CALSCALE:GREGORIAN
METHOD:PUBLISH
X-ORIGINAL-URL:https://syracuseamericanlegion.com
X-WR-CALDESC:Events for Syracuse American Legion
REFRESH-INTERVAL;VALUE=DURATION:PT1H
X-Robots-Tag:noindex
X-PUBLISHED-TTL:PT1H
BEGIN:VTIMEZONE
TZID:UTC
BEGIN:STANDARD
TZOFFSETFROM:+0000
TZOFFSETTO:+0000
TZNAME:UTC
DTSTART:20240101T000000
END:STANDARD
END:VTIMEZONE
BEGIN:VEVENT
DTSTART;TZID=UTC:20250413T133000
DTEND;TZID=UTC:20250413T160000
DTSTAMP:20260425T082337
CREATED:20241228T185054Z
LAST-MODIFIED:20241228T185054Z
UID:10000050-1744551000-1744560000@syracuseamericanlegion.com
SUMMARY:5th District Meeting\, Sunday\, April 13th\, 2025
DESCRIPTION:NOMINATION for 2025/2026 Legion Year will be accepted. \nElections in June 2025 Meeting. \nMembership Meeting at 1:30 pm. \nGeneral meeting convenes at 2:00 pm. \n 
URL:https://syracuseamericanlegion.com/event/5th-district-meeting-sunday-april-13th-2025/
LOCATION:Beaver River American Legion Post 1663\, 9883 Main St. (St\, Rt\, 812)\, Croghan\, NY\, 13327\, United States
ATTACH;FMTTYPE=image/jpeg:https://syracuseamericanlegion.com/wp-content/uploads/2024/12/images.jpeg
END:VEVENT
END:VCALENDAR