BEGIN:VCALENDAR
VERSION:2.0
PRODID:-//Syracuse American Legion - ECPv6.15.20//NONSGML v1.0//EN
CALSCALE:GREGORIAN
METHOD:PUBLISH
X-ORIGINAL-URL:https://syracuseamericanlegion.com
X-WR-CALDESC:Events for Syracuse American Legion
REFRESH-INTERVAL;VALUE=DURATION:PT1H
X-Robots-Tag:noindex
X-PUBLISHED-TTL:PT1H
BEGIN:VTIMEZONE
TZID:UTC
BEGIN:STANDARD
TZOFFSETFROM:+0000
TZOFFSETTO:+0000
TZNAME:UTC
DTSTART:20230101T000000
END:STANDARD
END:VTIMEZONE
BEGIN:VEVENT
DTSTART;TZID=UTC:20260312T180000
DTEND;TZID=UTC:20260312T200000
DTSTAMP:20260425T163553
CREATED:20250805T050108Z
LAST-MODIFIED:20250805T050108Z
UID:10000071-1773338400-1773345600@syracuseamericanlegion.com
SUMMARY:Onondaga County March Meeting
DESCRIPTION:Dinner at 5:15 to 6:00 pm. \nGeneral Meeting starts at 6:00 pm.
URL:https://syracuseamericanlegion.com/event/onondaga-county-march-meeting/
LOCATION:Arthur Butler Post 359\, 139 W. Manlius St.\, East Syracuse\, NY\, 13057\, United States
ATTACH;FMTTYPE=image/jpeg:https://syracuseamericanlegion.com/wp-content/uploads/2024/03/835-8359541_american-legion-logo.jpeg
END:VEVENT
BEGIN:VEVENT
DTSTART;TZID=UTC:20250313T171500
DTEND;TZID=UTC:20250313T200000
DTSTAMP:20260425T163553
CREATED:20241228T191832Z
LAST-MODIFIED:20241228T191832Z
UID:10000053-1741886100-1741896000@syracuseamericanlegion.com
SUMMARY:Onondaga County Meeting; Thursday\, March 13th\, 2025.
DESCRIPTION:Dinner/Registration from 5:15 pm to 6:00 pm. \nGeneral meeting convenes at 6:00 pm.
URL:https://syracuseamericanlegion.com/event/onondaga-county-meeting-thursday-march-13th-2025/
LOCATION:Arthur Butler Post 359\, 139 W. Manlius St.\, East Syracuse\, NY\, 13057\, United States
ATTACH;FMTTYPE=image/jpeg:https://syracuseamericanlegion.com/wp-content/uploads/2024/12/USETHIS-Arthur-Butler-scaled.jpg
END:VEVENT
BEGIN:VEVENT
DTSTART;TZID=UTC:20240804T080000
DTEND;TZID=UTC:20240804T170000
DTSTAMP:20260425T163553
CREATED:20240722T201609Z
LAST-MODIFIED:20240722T202159Z
UID:10000033-1722758400-1722790800@syracuseamericanlegion.com
SUMMARY:New York 5th and 6th District Membership Meeting
DESCRIPTION:Registration is froom 0800 to 0900. \nGeneral Meeting starts at 0900 hrs.
URL:https://syracuseamericanlegion.com/event/new-york-5th-and-6th-district-membership-meeting/
LOCATION:Arthur Butler Post 359\, 139 W. Manlius St.\, East Syracuse\, NY\, 13057\, United States
ATTACH;FMTTYPE=image/jpeg:https://syracuseamericanlegion.com/wp-content/uploads/2024/03/835-8359541_american-legion-logo.jpeg
ORGANIZER;CN="Onondaga County American Legion":MAILTO:onondagavets@gmail.com
END:VEVENT
END:VCALENDAR