BEGIN:VCALENDAR
VERSION:2.0
PRODID:-//Syracuse American Legion - ECPv6.15.20//NONSGML v1.0//EN
CALSCALE:GREGORIAN
METHOD:PUBLISH
X-WR-CALNAME:Syracuse American Legion
X-ORIGINAL-URL:https://syracuseamericanlegion.com
X-WR-CALDESC:Events for Syracuse American Legion
REFRESH-INTERVAL;VALUE=DURATION:PT1H
X-Robots-Tag:noindex
X-PUBLISHED-TTL:PT1H
BEGIN:VTIMEZONE
TZID:UTC
BEGIN:STANDARD
TZOFFSETFROM:+0000
TZOFFSETTO:+0000
TZNAME:UTC
DTSTART:20230101T000000
END:STANDARD
END:VTIMEZONE
BEGIN:VEVENT
DTSTART;TZID=UTC:20241013T120000
DTEND;TZID=UTC:20241013T150000
DTSTAMP:20260425T204447
CREATED:20240928T184213Z
LAST-MODIFIED:20240928T184213Z
UID:10000039-1728820800-1728831600@syracuseamericanlegion.com
SUMMARY:5th District October Meeting
DESCRIPTION:Meeting Starts at 12:00 pm (Noon).
URL:https://syracuseamericanlegion.com/event/5th-district-october-meeting/
LOCATION:Army/Navy American Legion Post 61\, 138 Sterling St.\, Watertown\, NY\, 13601\, United States
ATTACH;FMTTYPE=image/jpeg:https://syracuseamericanlegion.com/wp-content/uploads/2024/09/Post-61.jpg
ORGANIZER;CN="Robert E. Haumann - Commander":MAILTO:haumann@msn.com
END:VEVENT
END:VCALENDAR