BEGIN:VCALENDAR
VERSION:2.0
PRODID:-//Syracuse American Legion - ECPv6.15.20//NONSGML v1.0//EN
CALSCALE:GREGORIAN
METHOD:PUBLISH
X-WR-CALNAME:Syracuse American Legion
X-ORIGINAL-URL:https://syracuseamericanlegion.com
X-WR-CALDESC:Events for Syracuse American Legion
REFRESH-INTERVAL;VALUE=DURATION:PT1H
X-Robots-Tag:noindex
X-PUBLISHED-TTL:PT1H
BEGIN:VTIMEZONE
TZID:UTC
BEGIN:STANDARD
TZOFFSETFROM:+0000
TZOFFSETTO:+0000
TZNAME:UTC
DTSTART:20250101T000000
END:STANDARD
END:VTIMEZONE
BEGIN:VEVENT
DTSTART;TZID=UTC:20260222T130000
DTEND;TZID=UTC:20260222T150000
DTSTAMP:20260425T164046
CREATED:20260131T023932Z
LAST-MODIFIED:20260131T023932Z
UID:10000084-1771765200-1771772400@syracuseamericanlegion.com
SUMMARY:2026 CONVENTION MEETING
DESCRIPTION:Regular meeting at Eastwood Post 1276 at 1:00 pm.
URL:https://syracuseamericanlegion.com/event/2026-convention-meeting/
LOCATION:Eastwood Post 1276\, 3701 James St.\, Syracuse\, NY\, 13206\, United States
ATTACH;FMTTYPE=image/jpeg:https://syracuseamericanlegion.com/wp-content/uploads/2025/09/IMG_3292.jpg
ORGANIZER;CN="William Galvin - Chairman":MAILTO:wgalvin002@gmail.com
END:VEVENT
BEGIN:VEVENT
DTSTART;TZID=UTC:20260201T140000
DTEND;TZID=UTC:20260201T160000
DTSTAMP:20260425T164046
CREATED:20260131T021738Z
LAST-MODIFIED:20260131T021738Z
UID:10000081-1769954400-1769961600@syracuseamericanlegion.com
SUMMARY:2026 SPECIAL CONVENTION MEETING
DESCRIPTION:To be via ZOOM. \nContact Committee Chairman William Galvin for access.
URL:https://syracuseamericanlegion.com/event/2026-special-convention-meeting/
ATTACH;FMTTYPE=image/jpeg:https://syracuseamericanlegion.com/wp-content/uploads/2026/01/25UeWUrVGmuXUjnG6Yt7rj-970-80.jpg
ORGANIZER;CN="William Galvin - Chairman":MAILTO:wgalvin002@gmail.com
END:VEVENT
END:VCALENDAR