BEGIN:VCALENDAR
VERSION:2.0
PRODID:-//Syracuse American Legion - ECPv6.15.20//NONSGML v1.0//EN
CALSCALE:GREGORIAN
METHOD:PUBLISH
X-WR-CALNAME:Syracuse American Legion
X-ORIGINAL-URL:https://syracuseamericanlegion.com
X-WR-CALDESC:Events for Syracuse American Legion
REFRESH-INTERVAL;VALUE=DURATION:PT1H
X-Robots-Tag:noindex
X-PUBLISHED-TTL:PT1H
BEGIN:VTIMEZONE
TZID:UTC
BEGIN:STANDARD
TZOFFSETFROM:+0000
TZOFFSETTO:+0000
TZNAME:UTC
DTSTART:20230101T000000
END:STANDARD
END:VTIMEZONE
BEGIN:VEVENT
DTSTART;TZID=UTC:20250814T171500
DTEND;TZID=UTC:20250814T200000
DTSTAMP:20260425T180417
CREATED:20250610T203143Z
LAST-MODIFIED:20250610T203143Z
UID:10000061-1755191700-1755201600@syracuseamericanlegion.com
SUMMARY:County 2025 Organizational Meeting
DESCRIPTION:1st meeting of 2025. \nDinner and registration from 5:15 pm to 6:00 pm. \nMeeting convenes at 6:00 pm. \nReview of proposed budget for 2025/2026. \nCommittee Appointments
URL:https://syracuseamericanlegion.com/event/county-2025-organizational-meeting/
LOCATION:Ralph Share Post 297\, 13 E. Main St.\, Marcellus\, NY\, 13108\, United States
ATTACH;FMTTYPE=image/jpeg:https://syracuseamericanlegion.com/wp-content/uploads/2024/03/e5c8b76f65571584eba8b7c2fff35fbe59c255730854177133c038f7c7dd30af-rimg-w960-h810-gmir.jpg
ORGANIZER;CN="William E. Galvin - Adjutant":MAILTO:wgalvin002@gmail.com
END:VEVENT
BEGIN:VEVENT
DTSTART;TZID=UTC:20241214T090000
DTEND;TZID=UTC:20241214T110000
DTSTAMP:20260425T180417
CREATED:20240928T182143Z
LAST-MODIFIED:20240928T182427Z
UID:10000037-1734166800-1734174000@syracuseamericanlegion.com
SUMMARY:Wreath's Across America
DESCRIPTION:Please help us Remember\, Honor\, and Teach on December 14\, 2024 (Wreath Placement Immediately Following Ceremony) at 09:00 AM with Farone and Son Funeral Home at the Onondaga Veteran’s Cemetery (NYSFFH) by sponsoring a wreath.  DEADLINE TO PURCHASE 11/28/2023. \nThe Onondaga County American Legion will participate as a group. \nSponsoring a Wreath\, see the link on their main page: \n1 = $17.00 \n5=$85.00 \n12=$204.00
URL:https://syracuseamericanlegion.com/event/wreaths-across-america/
LOCATION:Onondaga County Veteran’s Memorial Cemetery\, 4069 Howlett Hill Rd.\, Syracuse\, NY\, 13215\, United States
ATTACH;FMTTYPE=image/png:https://syracuseamericanlegion.com/wp-content/uploads/2024/09/1st-picture.png
ORGANIZER;CN="William E. Galvin - Adjutant":MAILTO:wgalvin002@gmail.com
END:VEVENT
END:VCALENDAR