BEGIN:VCALENDAR
VERSION:2.0
PRODID:-//Syracuse American Legion - ECPv6.15.20//NONSGML v1.0//EN
CALSCALE:GREGORIAN
METHOD:PUBLISH
X-ORIGINAL-URL:https://syracuseamericanlegion.com
X-WR-CALDESC:Events for Syracuse American Legion
REFRESH-INTERVAL;VALUE=DURATION:PT1H
X-Robots-Tag:noindex
X-PUBLISHED-TTL:PT1H
BEGIN:VTIMEZONE
TZID:UTC
BEGIN:STANDARD
TZOFFSETFROM:+0000
TZOFFSETTO:+0000
TZNAME:UTC
DTSTART:20230101T000000
END:STANDARD
END:VTIMEZONE
BEGIN:VEVENT
DTSTART;TZID=UTC:20250929T180000
DTEND;TZID=UTC:20250929T210000
DTSTAMP:20260426T004753
CREATED:20250911T010119Z
LAST-MODIFIED:20250911T011420Z
UID:10000077-1759168800-1759179600@syracuseamericanlegion.com
SUMMARY:Department Commander John Miga visits Onondaga County
DESCRIPTION:Please join the Onondaga County American Legion in welcoming NY American Legion Department Commander John Miga\, NY SAL Department Detachment Commander Joseph Guidice\, and NY Department Auxiliary President Maureen Morgan to a reception and dinner in their honor on Monday\, September 29th\, 2025\, at the American Legion Valley Post 1468 located at 110 Academy Street\, Syracuse\, NY 13207—reception from 6:00 pm to 7:00 pm\, and an Italian Style Buffet Dinner at 7:00 pm. Tickets are $30.00. Please see the attached reservation form. \nFLYER AND RESERVE FORM 1 \nFLYER AND RESERVE FORM 2 \nCommander Miga and party will attend a luncheon in their honor at Mattydale American Legion Post 1832 at 2718 LeMoyne Ave\, Mattydale NY from 12:00 pm\, to 1:30 pm\, then travel to the Gregory J. Harris Military Courtesy Room at Hancock Airport to see the military courtesy room in action and learn about Vietnam MIA Gregory Harris.  They will then tour the Aviation Museum.
URL:https://syracuseamericanlegion.com/event/department-commander-john-miga-visits-onondaga-county/
LOCATION:Valley Post 1468\, 110 Academy Street\, Syracuse\, NY\, 13207\, United States
ATTACH;FMTTYPE=image/jpeg:https://syracuseamericanlegion.com/wp-content/uploads/2025/09/20250415_121159486_iOS.jpg
ORGANIZER;CN="Onondaga County American Legion":MAILTO:onondagavets@gmail.com
END:VEVENT
BEGIN:VEVENT
DTSTART;TZID=UTC:20250911T180000
DTEND;TZID=UTC:20250911T200000
DTSTAMP:20260426T004753
CREATED:20250805T044406Z
LAST-MODIFIED:20250805T044406Z
UID:10000065-1757613600-1757620800@syracuseamericanlegion.com
SUMMARY:Onondaga County September Meeting
DESCRIPTION:Dinner served from 5:15 to 6:00 pm. \nGeneral Meeting starts at 6:00 pm.
URL:https://syracuseamericanlegion.com/event/onondaga-county-september-meeting/
LOCATION:Robert J. Hydon Post 239\, 1 Wainwright DR.\, Skaneateles\, NY\, 13152\, United States
ATTACH;FMTTYPE=image/tiff:https://syracuseamericanlegion.com/wp-content/uploads/2024/03/835-8359541_american-legion-logo.tif
END:VEVENT
BEGIN:VEVENT
DTSTART;TZID=UTC:20250822T080000
DTEND;TZID=UTC:20250828T170000
DTSTAMP:20260426T004753
CREATED:20250805T042535Z
LAST-MODIFIED:20250805T043457Z
UID:10000063-1755849600-1756400400@syracuseamericanlegion.com
SUMMARY:106TH NATIONAL CONVENTION - AMERICAN LEGION. TAMPA FL.
DESCRIPTION:The American Legion will hold its 106th National Convention in Tampa Bay\, Florida\, August 22-28\, 2025.  The American Legion National Convention stands as the organization’s largest annual gathering\, bringing together approximately 9\,000 members from The American Legion Family.  National convention delegates meet each year to approve changes to the Legion’s constitution and bylaws\, pass programs that determine the course of the Legion\, set membership dues for the upcoming year\, and elect a national commander and five national vice commanders to serve until the next convention. \nCLICK HERE FOR MORE INFORMATION. \n 
URL:https://syracuseamericanlegion.com/event/106th-national-convention-american-legion-tampa-fl/
LOCATION:Hilton Tampa Downown\, 211 N. Tampa St.\, Tampa\, FL\, 33602\, United States
ATTACH;FMTTYPE=image/png:https://syracuseamericanlegion.com/wp-content/uploads/2025/08/2025-National-Convention-App-Icon.png
END:VEVENT
BEGIN:VEVENT
DTSTART;TZID=UTC:20250820T080000
DTEND;TZID=UTC:20250901T170000
DTSTAMP:20260426T004753
CREATED:20250805T043825Z
LAST-MODIFIED:20250805T043825Z
UID:10000064-1755676800-1756746000@syracuseamericanlegion.com
SUMMARY:New York State Fair
DESCRIPTION:Come visit our American Legion Booth!
URL:https://syracuseamericanlegion.com/event/new-york-state-fair/
LOCATION:NYS Fairgrounds – Exhibit Center\, 581 State Fair Blvd\, Syracuse\, NY\, 13209\, United States
ATTACH;FMTTYPE=image/jpeg:https://syracuseamericanlegion.com/wp-content/uploads/2025/08/20240901_153103-scaled.jpg
END:VEVENT
BEGIN:VEVENT
DTSTART;TZID=UTC:20250817T140000
DTEND;TZID=UTC:20250817T170000
DTSTAMP:20260426T004753
CREATED:20250805T042017Z
LAST-MODIFIED:20250805T042017Z
UID:10000062-1755439200-1755450000@syracuseamericanlegion.com
SUMMARY:5th District Organizational Meeting
DESCRIPTION:No membership meeting. \nGeneral meeting begins at 2:00 pm.
URL:https://syracuseamericanlegion.com/event/5th-district-organizational-meeting-2/
LOCATION:Valley Post 1468\, 110 Academy Street\, Syracuse\, NY\, 13207\, United States
ATTACH;FMTTYPE=image/jpeg:https://syracuseamericanlegion.com/wp-content/uploads/2025/08/20250413_140911-scaled.jpg
END:VEVENT
BEGIN:VEVENT
DTSTART;TZID=UTC:20250814T171500
DTEND;TZID=UTC:20250814T200000
DTSTAMP:20260426T004753
CREATED:20250610T203143Z
LAST-MODIFIED:20250610T203143Z
UID:10000061-1755191700-1755201600@syracuseamericanlegion.com
SUMMARY:County 2025 Organizational Meeting
DESCRIPTION:1st meeting of 2025. \nDinner and registration from 5:15 pm to 6:00 pm. \nMeeting convenes at 6:00 pm. \nReview of proposed budget for 2025/2026. \nCommittee Appointments
URL:https://syracuseamericanlegion.com/event/county-2025-organizational-meeting/
LOCATION:Ralph Share Post 297\, 13 E. Main St.\, Marcellus\, NY\, 13108\, United States
ATTACH;FMTTYPE=image/jpeg:https://syracuseamericanlegion.com/wp-content/uploads/2024/03/e5c8b76f65571584eba8b7c2fff35fbe59c255730854177133c038f7c7dd30af-rimg-w960-h810-gmir.jpg
ORGANIZER;CN="William E. Galvin - Adjutant":MAILTO:wgalvin002@gmail.com
END:VEVENT
BEGIN:VEVENT
DTSTART;VALUE=DATE:20250716
DTEND;VALUE=DATE:20250720
DTSTAMP:20260426T004753
CREATED:20240325T165441Z
LAST-MODIFIED:20241126T222948Z
UID:10000003-1752624000-1752969599@syracuseamericanlegion.com
SUMMARY:2025 American Legion Department of New York Convention
DESCRIPTION:Get details from the Convention Web Page at the 2025 Convention.
URL:https://syracuseamericanlegion.com/event/2025-american-legion-department-of-new-york-convention/
LOCATION:Marriott Syracuse Downtown\, 100 East Onondaga St.\, Syracuse\, NY\, 13202\, United States
ATTACH;FMTTYPE=image/jpeg:https://syracuseamericanlegion.com/wp-content/uploads/2024/03/AdobeStock_467050702_Editorial_Use_Only-scaled.jpeg
ORGANIZER;CN="Onondaga County American Legion":MAILTO:onondagavets@gmail.com
END:VEVENT
BEGIN:VEVENT
DTSTART;TZID=UTC:20250608T133000
DTEND;TZID=UTC:20250608T160000
DTSTAMP:20260426T004753
CREATED:20241228T185651Z
LAST-MODIFIED:20250307T194853Z
UID:10000051-1749389400-1749398400@syracuseamericanlegion.com
SUMMARY:5th District Convention; Sunday\, June 8th\, 2025.
DESCRIPTION:5th District ELECTION to be held. \nMembership Meeting at 1:30 pm. \nGeneral Meeting convenes at 2:00 pm. \n 
URL:https://syracuseamericanlegion.com/event/5th-district-convention-sunday-june-8th-2025/
LOCATION:Valley Post 1468\, 110 Academy Street\, Syracuse\, NY\, 13207\, United States
ATTACH;FMTTYPE=image/png:https://syracuseamericanlegion.com/wp-content/uploads/2024/12/Valley-Post.png
END:VEVENT
BEGIN:VEVENT
DTSTART;TZID=UTC:20250607T090000
DTEND;TZID=UTC:20250607T120000
DTSTAMP:20260426T004753
CREATED:20241228T194106Z
LAST-MODIFIED:20250516T231503Z
UID:10000056-1749286800-1749297600@syracuseamericanlegion.com
SUMMARY:Onondaga County Convention; Saturday\, June 7th\, 2025
DESCRIPTION:ELECTIONS for 2025/2026 County Officers. \nValley Post 1468 \n110 Academy Street\, Syracuse NY 13207 \nRegistration from 0900 to 0945. \nFlag Raising at 0945. \nConvention convenes at 1000. \nAwards Ceremony to follow.
URL:https://syracuseamericanlegion.com/event/onondaga-county-convention-saturday-june-7th-2025/
LOCATION:Valley Post 1468\, 110 Academy Street\, Syracuse\, NY\, 13207\, United States
ATTACH;FMTTYPE=image/jpeg:https://syracuseamericanlegion.com/wp-content/uploads/2024/04/AdobeStock_75505675-fotor-20240421135714.jpg
END:VEVENT
BEGIN:VEVENT
DTSTART;TZID=UTC:20250508T171500
DTEND;TZID=UTC:20250508T200000
DTSTAMP:20260426T004753
CREATED:20241228T193844Z
LAST-MODIFIED:20241228T193844Z
UID:10000055-1746724500-1746734400@syracuseamericanlegion.com
SUMMARY:Onondaga County Meeting; Thursday\, May 8th\, 2025.
DESCRIPTION:NOMINATIONS for 2025/2026 County Officers will be accepted. \nDinner/Registration from 5:15 pm to 6:00 pm. \nGeneral Meeting Convenes at 6:00 pm.
URL:https://syracuseamericanlegion.com/event/onondaga-county-meeting-thursday-may-8th-2025/
LOCATION:Vernice Suttle Post 113\, 8529 Smokey Hollow Rd.\, Baldwinsville\, NY\, 13027\, United States
ATTACH;FMTTYPE=image/jpeg:https://syracuseamericanlegion.com/wp-content/uploads/2024/12/Baldwinsville.jpg
END:VEVENT
BEGIN:VEVENT
DTSTART;TZID=UTC:20250413T133000
DTEND;TZID=UTC:20250413T160000
DTSTAMP:20260426T004753
CREATED:20241228T185054Z
LAST-MODIFIED:20241228T185054Z
UID:10000050-1744551000-1744560000@syracuseamericanlegion.com
SUMMARY:5th District Meeting\, Sunday\, April 13th\, 2025
DESCRIPTION:NOMINATION for 2025/2026 Legion Year will be accepted. \nElections in June 2025 Meeting. \nMembership Meeting at 1:30 pm. \nGeneral meeting convenes at 2:00 pm. \n 
URL:https://syracuseamericanlegion.com/event/5th-district-meeting-sunday-april-13th-2025/
LOCATION:Beaver River American Legion Post 1663\, 9883 Main St. (St\, Rt\, 812)\, Croghan\, NY\, 13327\, United States
ATTACH;FMTTYPE=image/jpeg:https://syracuseamericanlegion.com/wp-content/uploads/2024/12/images.jpeg
END:VEVENT
BEGIN:VEVENT
DTSTART;TZID=UTC:20250410T171500
DTEND;TZID=UTC:20250410T200000
DTSTAMP:20260426T004753
CREATED:20241228T193135Z
LAST-MODIFIED:20241228T193426Z
UID:10000054-1744305300-1744315200@syracuseamericanlegion.com
SUMMARY:Onondaga County Meeting; Thursday\, April 10th\, 2025
DESCRIPTION:Dinner/Registration from 5:15 pm to 6:00 pm. \nGeneral Meeting Convenes at 6:00 pm.
URL:https://syracuseamericanlegion.com/event/onondaga-county-meeting-thursday-april-10th-2025/
LOCATION:Valentine Myer Post 317\, 4572 Jordan Rd.\, Skaneateles\, NY\, 13152\, United States
ATTACH;FMTTYPE=image/png:https://syracuseamericanlegion.com/wp-content/uploads/2024/12/Valentine-Meyer.png
END:VEVENT
BEGIN:VEVENT
DTSTART;TZID=UTC:20250409T080000
DTEND;TZID=UTC:20250409T210000
DTSTAMP:20260426T004753
CREATED:20240526T175916Z
LAST-MODIFIED:20240526T175916Z
UID:10000025-1744185600-1744232400@syracuseamericanlegion.com
SUMMARY:National Commander's Visitation - 5th District.
DESCRIPTION:Details TBD
URL:https://syracuseamericanlegion.com/event/national-commanders-visitation-5th-district/
LOCATION:NY
ATTACH;FMTTYPE=image/tiff:https://syracuseamericanlegion.com/wp-content/uploads/2024/03/835-8359541_american-legion-logo.tif
END:VEVENT
BEGIN:VEVENT
DTSTART;TZID=UTC:20250315T090000
DTEND;TZID=UTC:20250315T170000
DTSTAMP:20260426T004753
CREATED:20250307T192448Z
LAST-MODIFIED:20250307T193149Z
UID:10000057-1742029200-1742058000@syracuseamericanlegion.com
SUMMARY:Visit the American Legion booth at the 2025 Syracuse Spring Gun Show
DESCRIPTION:Members of the Syracuse and Onondaa County American Legion will have a booth in this years 2025 Syracuse Spring Gun Show.  The how is sponsored by the NYS Sportsmen Association. \nSaturday the 15th of March\, 2025\, from 0900 to 1700 hrs. \nSunday the 16th of March\, 2025 from 0900 to 1500 hrs. \n*** ALL FIREARMS\, including conceal carry\, must be unloaded and tied down unless you are hired/paid security at this show *** \nThe largest gun show held in New York State! More than 800 exhibits and displays are expected from collectors and dealers from all over the United States. \nFeatured inside at the show will be displays and sales tables of U.S. Military arms\, Colt Revolvers\, high grade double barrel shotguns\, Remington\, muskets\, Smith and Wesson\, Kentucky rifles\, gun parts and accessories\, Native American items\, Frontier and Western paraphernalia\, swords\, Springfield\, Winchesters\, vintage firearms\, bowie knives\, bayonets\, hand-crafted knives\, powder horns\, targets\, optics\, ammunition\, hunting and fishing items\, books\, western art\, civilian and military weapons from all nations\, custom-made and factory-made knives\, and military relics and equipment from before the Revolutionary War to the present. \n 
URL:https://syracuseamericanlegion.com/event/american-legion-to-have-a-booth-in-the-2025-syracuse-spring-gun-show/
LOCATION:NYS Fairgrounds – Exhibit Center\, 581 State Fair Blvd\, Syracuse\, NY\, 13209\, United States
ATTACH;FMTTYPE=image/jpeg:https://syracuseamericanlegion.com/wp-content/uploads/2025/03/gunshow-event_99265cf6797a1e5fb9d77d7bc4d4e3b7.jpg
END:VEVENT
BEGIN:VEVENT
DTSTART;TZID=UTC:20250313T171500
DTEND;TZID=UTC:20250313T200000
DTSTAMP:20260426T004753
CREATED:20241228T191832Z
LAST-MODIFIED:20241228T191832Z
UID:10000053-1741886100-1741896000@syracuseamericanlegion.com
SUMMARY:Onondaga County Meeting; Thursday\, March 13th\, 2025.
DESCRIPTION:Dinner/Registration from 5:15 pm to 6:00 pm. \nGeneral meeting convenes at 6:00 pm.
URL:https://syracuseamericanlegion.com/event/onondaga-county-meeting-thursday-march-13th-2025/
LOCATION:Arthur Butler Post 359\, 139 W. Manlius St.\, East Syracuse\, NY\, 13057\, United States
ATTACH;FMTTYPE=image/jpeg:https://syracuseamericanlegion.com/wp-content/uploads/2024/12/USETHIS-Arthur-Butler-scaled.jpg
END:VEVENT
BEGIN:VEVENT
DTSTART;TZID=UTC:20250213T171500
DTEND;TZID=UTC:20250213T200000
DTSTAMP:20260426T004753
CREATED:20241228T190804Z
LAST-MODIFIED:20241228T190804Z
UID:10000052-1739466900-1739476800@syracuseamericanlegion.com
SUMMARY:County Meeting; Thursday\, February 13th\, 2025.
DESCRIPTION:Dinner and Registration from 5:15 pm to 6:00 pm. \nGeneral meeting convenes at 6:00 pm.
URL:https://syracuseamericanlegion.com/event/county-meeting-thursday-february-13th-2025/
LOCATION:Eastwood Post 1276\, 3701 James St.\, Syracuse\, NY\, 13206\, United States
ATTACH;FMTTYPE=image/png:https://syracuseamericanlegion.com/wp-content/uploads/2024/07/Eastwood.png
END:VEVENT
BEGIN:VEVENT
DTSTART;TZID=UTC:20250209T133000
DTEND;TZID=UTC:20250209T153000
DTSTAMP:20260426T004753
CREATED:20241228T184309Z
LAST-MODIFIED:20241228T184309Z
UID:10000049-1739107800-1739115000@syracuseamericanlegion.com
SUMMARY:5th District Meeting\, Sunday\, February 9th\, 2025.
DESCRIPTION:Membership meeting at 1:30 pm. \nGeneral meeting starts at 2:00 pm.
URL:https://syracuseamericanlegion.com/event/5th-district-meeting-sunday-february-9th-2025/
LOCATION:Edward L. Clonan American Legion Post 1000\, 3454 Oneida St.\, Chadwicks\, NY\, 13319\, United States
ATTACH;FMTTYPE=image/png:https://syracuseamericanlegion.com/wp-content/uploads/2024/12/Clonan-Post.png
ORGANIZER;CN="Robert E. Haumann - Commander":MAILTO:haumann@msn.com
END:VEVENT
BEGIN:VEVENT
DTSTART;TZID=UTC:20250117T080000
DTEND;TZID=UTC:20250120T170000
DTSTAMP:20260426T004753
CREATED:20241220T200530Z
LAST-MODIFIED:20241220T200727Z
UID:10000048-1737100800-1737392400@syracuseamericanlegion.com
SUMMARY:Dept. of New York - Mid-Winter Conference
DESCRIPTION:Details regarding Department’s Mid-Winter conference can be found on their web page at https://nylegion.net/news-events/mid-winter-conference/ .
URL:https://syracuseamericanlegion.com/event/dept-of-new-york-mid-winter-conference/
LOCATION:The Desmond Hotel – Albany\, 660 Albany Shaker Rd.\, Albany\, NY\, 12211\, United States
ATTACH;FMTTYPE=image/jpeg:https://syracuseamericanlegion.com/wp-content/uploads/2024/12/albdh-cp-desmond-albany-fort-orange-nightime-1.jpg
END:VEVENT
BEGIN:VEVENT
DTSTART;TZID=UTC:20250109T171500
DTEND;TZID=UTC:20250109T200000
DTSTAMP:20260426T004753
CREATED:20241220T194611Z
LAST-MODIFIED:20241228T191221Z
UID:10000047-1736442900-1736452800@syracuseamericanlegion.com
SUMMARY:Onondaga County Meeting; Thursday\, January 9th\, 2025.
DESCRIPTION:Thursday\, January 9th\, 2025 meeting of the Onondaga County American Legion. \nTipperary Hill Post 1361\, 1951 W. Fayette St.\, Syracuse NY 13204. \nDinner and Registration from 5:15 to 6:00 pm. \nGeneral Meeting convenes at 6:00 pm.
URL:https://syracuseamericanlegion.com/event/january-2020-onondaga-county-meeting/
LOCATION:Tipperary Hill Post 1361\, 1951 W. Fayette St.\, Syracuse\, NY\, 13204\, United States
ATTACH;FMTTYPE=image/png:https://syracuseamericanlegion.com/wp-content/uploads/2024/12/temp_811307f4-a54e-461c-b01b-edbd7a66d2e1.png
ORGANIZER;CN="Onondaga County American Legion":MAILTO:onondagavets@gmail.com
END:VEVENT
BEGIN:VEVENT
DTSTART;TZID=UTC:20241221T110000
DTEND;TZID=UTC:20241221T140000
DTSTAMP:20260426T004753
CREATED:20241209T203506Z
LAST-MODIFIED:20241209T203941Z
UID:10000046-1734778800-1734789600@syracuseamericanlegion.com
SUMMARY:2024 - 2025 ORATORICAL COMPETITION
DESCRIPTION:Saturday\, December 21st\, 2024 from 11am to 2pm. \nat the American Legion Dunbar Post 1642. \n119 Dell St. Syracuse NY
URL:https://syracuseamericanlegion.com/event/2024-2025-oratorical-competition/
LOCATION:Dunbar Post 1642\, 119 Dell St.\, Syracuse\, NY\, 13210\, United States
ATTACH;FMTTYPE=image/jpeg:https://syracuseamericanlegion.com/wp-content/uploads/2024/12/Oratorical-Announcement-scaled.jpg
ORGANIZER;CN="Herbert Dunmore":MAILTO:hldunmore@verizon.net
END:VEVENT
BEGIN:VEVENT
DTSTART;TZID=UTC:20241215T080000
DTEND;TZID=UTC:20241216T170000
DTSTAMP:20260426T004753
CREATED:20241101T203047Z
LAST-MODIFIED:20241101T203047Z
UID:10000043-1734249600-1734368400@syracuseamericanlegion.com
SUMMARY:Junior Shooting Competition
DESCRIPTION:NYS American Legion Junior Shooting Competition\nThis is open to any juniors or home schooled students.\n\nTeams or individuals must register with tom green- tgreen60@yahoo.com –\nAny additional information contact – Msgt8511@hotmail.com –\nCheck back for addditional information as it develops.
URL:https://syracuseamericanlegion.com/event/junior-shooting-competition/
LOCATION:James Harvey Spire Post 787\, 5575 Legionnaire Dr.\, Cicero\, NY\, 13039\, United States
ATTACH;FMTTYPE=image/jpeg:https://syracuseamericanlegion.com/wp-content/uploads/2024/10/participate.jpeg
END:VEVENT
BEGIN:VEVENT
DTSTART;TZID=UTC:20241214T090000
DTEND;TZID=UTC:20241214T110000
DTSTAMP:20260426T004753
CREATED:20240928T182143Z
LAST-MODIFIED:20240928T182427Z
UID:10000037-1734166800-1734174000@syracuseamericanlegion.com
SUMMARY:Wreath's Across America
DESCRIPTION:Please help us Remember\, Honor\, and Teach on December 14\, 2024 (Wreath Placement Immediately Following Ceremony) at 09:00 AM with Farone and Son Funeral Home at the Onondaga Veteran’s Cemetery (NYSFFH) by sponsoring a wreath.  DEADLINE TO PURCHASE 11/28/2023. \nThe Onondaga County American Legion will participate as a group. \nSponsoring a Wreath\, see the link on their main page: \n1 = $17.00 \n5=$85.00 \n12=$204.00
URL:https://syracuseamericanlegion.com/event/wreaths-across-america/
LOCATION:Onondaga County Veteran’s Memorial Cemetery\, 4069 Howlett Hill Rd.\, Syracuse\, NY\, 13215\, United States
ATTACH;FMTTYPE=image/png:https://syracuseamericanlegion.com/wp-content/uploads/2024/09/1st-picture.png
ORGANIZER;CN="William E. Galvin - Adjutant":MAILTO:wgalvin002@gmail.com
END:VEVENT
BEGIN:VEVENT
DTSTART;TZID=UTC:20241212T180000
DTEND;TZID=UTC:20241212T193000
DTSTAMP:20260426T004753
CREATED:20241123T212836Z
LAST-MODIFIED:20241123T212836Z
UID:10000045-1734026400-1734031800@syracuseamericanlegion.com
SUMMARY:Onondaga County December Meeting
DESCRIPTION:The December 2024 meeting of the Onondaga County American Legion will be helkd on Thursday\, December 12th\, 2024 at the Valley Post 1468 at 110 Academy Street in Syracuse. \nDinner and registration is from 5:15 pm to 6:00 pm. \nGeneral meeting convenes at 6:00 pm.
URL:https://syracuseamericanlegion.com/event/onondaga-county-december-meeting/
LOCATION:Valley Post 1468\, 110 Academy Street\, Syracuse\, NY\, 13207\, United States
ATTACH;FMTTYPE=image/png:https://syracuseamericanlegion.com/wp-content/uploads/2024/11/Post-Picture.png
ORGANIZER;CN="Onondaga County American Legion":MAILTO:onondagavets@gmail.com
END:VEVENT
BEGIN:VEVENT
DTSTART;TZID=UTC:20241208T120000
DTEND;TZID=UTC:20241208T150000
DTSTAMP:20260426T004753
CREATED:20240928T184919Z
LAST-MODIFIED:20240928T184919Z
UID:10000040-1733659200-1733670000@syracuseamericanlegion.com
SUMMARY:5th District December Meeting
DESCRIPTION:Meeting starts at 12:00 pm (noon).
URL:https://syracuseamericanlegion.com/event/5th-district-december-meeting/
LOCATION:Crowley Barnum American Legion Post 25\, 43 West Main Street\, Mohawk\, NY\, 13407\, United States
ATTACH;FMTTYPE=image/jpeg:https://syracuseamericanlegion.com/wp-content/uploads/2024/09/Crowley-Barnum-Post-25.jpeg
END:VEVENT
BEGIN:VEVENT
DTSTART;TZID=UTC:20241114T180000
DTEND;TZID=UTC:20241114T193000
DTSTAMP:20260426T004753
CREATED:20241023T204051Z
LAST-MODIFIED:20241023T204234Z
UID:10000041-1731607200-1731612600@syracuseamericanlegion.com
SUMMARY:Onondaga County November Meeting.
DESCRIPTION:Matttydale Post 1832. \nRegistration and Dinner 5:15 pm to 6:00 pm. \nGeneral meeting convenes at 6:00 pm.
URL:https://syracuseamericanlegion.com/event/onondaga-county-november-meeting/
LOCATION:Mattydale Post 1832\, 2718 Lemoyne Ave.\, Mattydale\, NY\, 13211\, United States
ATTACH;FMTTYPE=image/jpeg:https://syracuseamericanlegion.com/wp-content/uploads/2024/10/3e6b6ba9a26df1b0aff53353afc4e39a58ba877928d824873444e50ac1f94bb0-rimg-w960-h720-gmir.jpg
ORGANIZER;CN="Onondaga County American Legion":MAILTO:onondagavets@gmail.com
END:VEVENT
BEGIN:VEVENT
DTSTART;TZID=UTC:20241111T140000
DTEND;TZID=UTC:20241111T190000
DTSTAMP:20260426T004753
CREATED:20241107T194221Z
LAST-MODIFIED:20241107T194221Z
UID:10000044-1731333600-1731351600@syracuseamericanlegion.com
SUMMARY:Flag Retirement Ceremony at Dunbar Post
DESCRIPTION:American Legion  \nVETERANS DAY \nFLAG RETIREMENT CEREMONY \nAn Honorable Flag Burning Ceremony  \nRetire Your Worn and Torn Flags  At the  Dunbar Post 1642 \n119 Dell Street (off Columbus Ave) \nSyracuse\, NY  13210       (315) 474-1167 \nMonday\, November 11\, 2024 at 2PM \nVETERANS DAY \nJoin us in Remembrance \n (Lounge will be open after ceremony)
URL:https://syracuseamericanlegion.com/event/flag-retirement-ceremony-at-dunbar-post/
LOCATION:Dunbar Post 1642\, 119 Dell St.\, Syracuse\, NY\, 13210\, United States
ATTACH;FMTTYPE=image/jpeg:https://syracuseamericanlegion.com/wp-content/uploads/2024/11/AdobeStock_965836000-scaled.jpeg
END:VEVENT
BEGIN:VEVENT
DTSTART;TZID=UTC:20241109T090000
DTEND;TZID=UTC:20241109T120000
DTSTAMP:20260426T004753
CREATED:20240618T213847Z
LAST-MODIFIED:20240928T190152Z
UID:10000031-1731142800-1731153600@syracuseamericanlegion.com
SUMMARY:CNY Veterans Parade and Expo.
DESCRIPTION:The Onondaga County American Legion will be providing Breakfast\, free of charge\, for all Veterans and Gold Star parents. \nUnfortunately\, due to financial constraints\, non-veteran family member and friends will be required to pay a nominal fee for their breakfast. \n 
URL:https://syracuseamericanlegion.com/event/cny-veterans-parade-and-expo/
LOCATION:NYS Fairground Center of Progress Building\, Massapequa Ave.\, Syracuse\, NY\, 13209\, United States
ATTACH;FMTTYPE=image/jpeg:https://syracuseamericanlegion.com/wp-content/uploads/2024/06/Flyer-1.jpg
END:VEVENT
BEGIN:VEVENT
DTSTART;TZID=UTC:20241102T133000
DTEND;TZID=UTC:20241102T160000
DTSTAMP:20260426T004753
CREATED:20241028T190212Z
LAST-MODIFIED:20241028T192346Z
UID:10000042-1730554200-1730563200@syracuseamericanlegion.com
SUMMARY:5th District Training: Judge Advocate and Constitution & By Laws Review
DESCRIPTION:Join Dr. Janice Gravely in a training session designed for Officers (and prospective Officers) of the American Legion as she facilitates training for the position of Judge Advocate\, and a session on required Constitution and By-Laws. \nResolution No. 52: The American Legion Post Operations (21st Century)  \nRESOLVED\, That all department\, district\, county and local American Legion leaders are urged to develop a leadership plan that stresses the need of mentoring and training of all post officials in such areas as: \n(3) Development of a Constitution and By-Laws to include proper charter filing\, incorporation\, report filing to include the Consolidated Post Report\, maintaining a proper check and balance system to include audit\, risk management (liability)\, property and event insurance)\, and proper writing of resolutions. \nRESOLVED\, That the American Legion believes that each post is a community based wartime veterans organization\, \nRESOLVED\, That when referring to an American Legion post in all official documents\, publications\, signage\, and advertising that the word “post” be used instead of club\, hall or other term; and be it finally \nRESOLVED\, That Resolution No. 31\, of the National Executive Committee\, October 2006\, titled “The American Legion Post Operations” (21st Century). is hereby suspended and rescinded.
URL:https://syracuseamericanlegion.com/event/5th-district-training-judge-advocate-and-constitution-by-laws-review/
LOCATION:Carthage NY Post 789\, 415 West Street\, Carthage\, NY\, 13619\, United States
ATTACH;FMTTYPE=image/jpeg:https://syracuseamericanlegion.com/wp-content/uploads/2024/10/Judge-Advocate-scaled.jpeg
ORGANIZER;CN="Janice M. Gravely":MAILTO:gijan@directmycompas.com
END:VEVENT
BEGIN:VEVENT
DTSTART;TZID=UTC:20241013T120000
DTEND;TZID=UTC:20241013T150000
DTSTAMP:20260426T004753
CREATED:20240928T184213Z
LAST-MODIFIED:20240928T184213Z
UID:10000039-1728820800-1728831600@syracuseamericanlegion.com
SUMMARY:5th District October Meeting
DESCRIPTION:Meeting Starts at 12:00 pm (Noon).
URL:https://syracuseamericanlegion.com/event/5th-district-october-meeting/
LOCATION:Army/Navy American Legion Post 61\, 138 Sterling St.\, Watertown\, NY\, 13601\, United States
ATTACH;FMTTYPE=image/jpeg:https://syracuseamericanlegion.com/wp-content/uploads/2024/09/Post-61.jpg
ORGANIZER;CN="Robert E. Haumann - Commander":MAILTO:haumann@msn.com
END:VEVENT
BEGIN:VEVENT
DTSTART;TZID=UTC:20241010T171500
DTEND;TZID=UTC:20241010T200000
DTSTAMP:20260426T004754
CREATED:20240928T183244Z
LAST-MODIFIED:20240928T183302Z
UID:10000038-1728580500-1728590400@syracuseamericanlegion.com
SUMMARY:Onondaga County October Meeting
DESCRIPTION:Registration and Dinner from 5:15 pm to 6:00 pm. \nGeneral meeting convenes at 6:00 pm.
URL:https://syracuseamericanlegion.com/event/onondaga-couunty-october-meeting/
LOCATION:James Harvey Spire Post 787\, 5575 Legionnaire Dr.\, Cicero\, NY\, 13039\, United States
ATTACH;FMTTYPE=image/png:https://syracuseamericanlegion.com/wp-content/uploads/2024/09/monument.png
ORGANIZER;CN="Robert E. Haumann - Commander":MAILTO:haumann@msn.com
END:VEVENT
END:VCALENDAR