BEGIN:VCALENDAR
VERSION:2.0
PRODID:-//Syracuse American Legion - ECPv6.15.20//NONSGML v1.0//EN
CALSCALE:GREGORIAN
METHOD:PUBLISH
X-WR-CALNAME:Syracuse American Legion
X-ORIGINAL-URL:https://syracuseamericanlegion.com
X-WR-CALDESC:Events for Syracuse American Legion
REFRESH-INTERVAL;VALUE=DURATION:PT1H
X-Robots-Tag:noindex
X-PUBLISHED-TTL:PT1H
BEGIN:VTIMEZONE
TZID:UTC
BEGIN:STANDARD
TZOFFSETFROM:+0000
TZOFFSETTO:+0000
TZNAME:UTC
DTSTART:20240101T000000
END:STANDARD
END:VTIMEZONE
BEGIN:VEVENT
DTSTART;TZID=UTC:20251113T180000
DTEND;TZID=UTC:20251113T200000
DTSTAMP:20260425T191200
CREATED:20250805T044937Z
LAST-MODIFIED:20250805T044937Z
UID:10000067-1763056800-1763064000@syracuseamericanlegion.com
SUMMARY:Onondaga County November Meeting
DESCRIPTION:Dinner 5:15 to 6:00 pm. \nGeneral meting at 6:00 pm.
URL:https://syracuseamericanlegion.com/event/onondaga-county-november-meeting-2/
LOCATION:Mattydale Post 1832\, 2718 Lemoyne Ave.\, Mattydale\, NY\, 13211\, United States
ATTACH;FMTTYPE=image/jpeg:https://syracuseamericanlegion.com/wp-content/uploads/2024/03/835-8359541_american-legion-logo.jpeg
END:VEVENT
END:VCALENDAR