BEGIN:VCALENDAR
VERSION:2.0
PRODID:-//Syracuse American Legion - ECPv6.15.20//NONSGML v1.0//EN
CALSCALE:GREGORIAN
METHOD:PUBLISH
X-ORIGINAL-URL:https://syracuseamericanlegion.com
X-WR-CALDESC:Events for Syracuse American Legion
REFRESH-INTERVAL;VALUE=DURATION:PT1H
X-Robots-Tag:noindex
X-PUBLISHED-TTL:PT1H
BEGIN:VTIMEZONE
TZID:UTC
BEGIN:STANDARD
TZOFFSETFROM:+0000
TZOFFSETTO:+0000
TZNAME:UTC
DTSTART:20250101T000000
END:STANDARD
END:VTIMEZONE
BEGIN:VEVENT
DTSTART;TZID=UTC:20260606T090000
DTEND;TZID=UTC:20260606T120000
DTSTAMP:20260425T163208
CREATED:20250805T051104Z
LAST-MODIFIED:20250805T051104Z
UID:10000074-1780736400-1780747200@syracuseamericanlegion.com
SUMMARY:Onondaga County Convention - June 2026.
DESCRIPTION:0900 to 0945 Registration. \n0945 Flag Raising \n1000 Convention Commences\, concludes with the installation of new officers. \n1100 2026 Awards Ceremony.
URL:https://syracuseamericanlegion.com/event/onondaga-county-convention-june-2026/
LOCATION:To Be Determined
ATTACH;FMTTYPE=image/jpeg:https://syracuseamericanlegion.com/wp-content/uploads/2024/03/835-8359541_american-legion-logo.jpeg
END:VEVENT
END:VCALENDAR