BEGIN:VCALENDAR
VERSION:2.0
PRODID:-//Syracuse American Legion - ECPv6.15.20//NONSGML v1.0//EN
CALSCALE:GREGORIAN
METHOD:PUBLISH
X-WR-CALNAME:Syracuse American Legion
X-ORIGINAL-URL:https://syracuseamericanlegion.com
X-WR-CALDESC:Events for Syracuse American Legion
REFRESH-INTERVAL;VALUE=DURATION:PT1H
X-Robots-Tag:noindex
X-PUBLISHED-TTL:PT1H
BEGIN:VTIMEZONE
TZID:UTC
BEGIN:STANDARD
TZOFFSETFROM:+0000
TZOFFSETTO:+0000
TZNAME:UTC
DTSTART:20250101T000000
END:STANDARD
END:VTIMEZONE
BEGIN:VEVENT
DTSTART;TZID=UTC:20260314T100000
DTEND;TZID=UTC:20260314T160000
DTSTAMP:20260425T151133
CREATED:20260218T212415Z
LAST-MODIFIED:20260218T212415Z
UID:10000087-1773482400-1773504000@syracuseamericanlegion.com
SUMMARY:SECOND GAMING WORKSHOP ADDED!
DESCRIPTION:Our scheduled Gaming Workshop\, with the addition of the NY State Liquor Authority\, garnered much more attention than anticipated. \nWe have brokwn the one Workshop into two.  30 people maximum per workshop. \nThe first event will still be on Saturday\, February 28th\, 2026 as previously reported. \nThe second half will be at the same location\, but on Saturday\, March 14th\, 2026. \nThere might be a slight change in times and please pay attention to our Facebbook Page for any last minute notifications. \nAs before\, both events are free and open to any areas VSO’s
URL:https://syracuseamericanlegion.com/event/second-gaming-workshop-added/
LOCATION:Eastwood Post 1276\, 3701 James St.\, Syracuse\, NY\, 13206\, United States
ATTACH;FMTTYPE=image/png:https://syracuseamericanlegion.com/wp-content/uploads/2026/02/Promotional-Gaming-Poster-2.png
END:VEVENT
END:VCALENDAR