BEGIN:VCALENDAR
VERSION:2.0
PRODID:-//Syracuse American Legion - ECPv6.15.20//NONSGML v1.0//EN
CALSCALE:GREGORIAN
METHOD:PUBLISH
X-WR-CALNAME:Syracuse American Legion
X-ORIGINAL-URL:https://syracuseamericanlegion.com
X-WR-CALDESC:Events for Syracuse American Legion
REFRESH-INTERVAL;VALUE=DURATION:PT1H
X-Robots-Tag:noindex
X-PUBLISHED-TTL:PT1H
BEGIN:VTIMEZONE
TZID:UTC
BEGIN:STANDARD
TZOFFSETFROM:+0000
TZOFFSETTO:+0000
TZNAME:UTC
DTSTART:20250101T000000
END:STANDARD
END:VTIMEZONE
BEGIN:VEVENT
DTSTART;TZID=UTC:20260228T080000
DTEND;TZID=UTC:20260228T120000
DTSTAMP:20260425T152048
CREATED:20260131T015556Z
LAST-MODIFIED:20260204T204754Z
UID:10000080-1772265600-1772280000@syracuseamericanlegion.com
SUMMARY:NYS GAMING AND ABC LAW WORKSHOP
DESCRIPTION:One-Day FREE Workshop.\nSpeaker for our morning session (9:00 am) will be Ms. Tuesday Lohmeyer\, NYS Gamiong Commission Deputy Director of Charitable Gaming.\nSpeaker for our afternon session (1:00 pm) will be Mr. Robert Aicher\, Senior Investigator\, NY State Liquor Authority.\nStaff on hand will be able answer questions and assist with paperwork or applications.\nOpen to ALL American Legion Posts other VSO to include the VFW and DAV.\nRegistration and Refreshments from 0800 to 0900.\nPresentation commences at 0900\,\nNO COST TO ATTEND\, BUT PLEASE RSVP with your name via email at onondagavets@gmail.com.
URL:https://syracuseamericanlegion.com/event/nys-gaming-workshop/
LOCATION:Eastwood Post 1276\, 3701 James St.\, Syracuse\, NY\, 13206\, United States
ATTACH;FMTTYPE=image/png:https://syracuseamericanlegion.com/wp-content/uploads/2026/01/Promotional-Gaming-Poster-1-scaled.png
ORGANIZER;CN="Onondaga County American Legion":MAILTO:onondagavets@gmail.com
END:VEVENT
END:VCALENDAR