BEGIN:VCALENDAR
VERSION:2.0
PRODID:-//Syracuse American Legion - ECPv6.15.20//NONSGML v1.0//EN
CALSCALE:GREGORIAN
METHOD:PUBLISH
X-ORIGINAL-URL:https://syracuseamericanlegion.com
X-WR-CALDESC:Events for Syracuse American Legion
REFRESH-INTERVAL;VALUE=DURATION:PT1H
X-Robots-Tag:noindex
X-PUBLISHED-TTL:PT1H
BEGIN:VTIMEZONE
TZID:UTC
BEGIN:STANDARD
TZOFFSETFROM:+0000
TZOFFSETTO:+0000
TZNAME:UTC
DTSTART:20250101T000000
END:STANDARD
END:VTIMEZONE
BEGIN:VEVENT
DTSTART;TZID=UTC:20260215T133000
DTEND;TZID=UTC:20260215T160000
DTSTAMP:20260425T164822
CREATED:20260131T022512Z
LAST-MODIFIED:20260131T022512Z
UID:10000082-1771162200-1771171200@syracuseamericanlegion.com
SUMMARY:5th DISTRICT FEBRUARY MEETING
DESCRIPTION:Membership meeting is at 1:30 p.m. \nGeneral meeting convenes at 2:00 p.m.
URL:https://syracuseamericanlegion.com/event/5th-district-february-meeting/
LOCATION:American Legion Post 25\, 43 West Main St.\, Mohawk\, NY\, 13407\, United States
ATTACH;FMTTYPE=image/jpeg:https://syracuseamericanlegion.com/wp-content/uploads/2026/01/images.jpeg
END:VEVENT
END:VCALENDAR