BEGIN:VCALENDAR
VERSION:2.0
PRODID:-//Syracuse American Legion - ECPv6.15.20//NONSGML v1.0//EN
CALSCALE:GREGORIAN
METHOD:PUBLISH
X-WR-CALNAME:Syracuse American Legion
X-ORIGINAL-URL:https://syracuseamericanlegion.com
X-WR-CALDESC:Events for Syracuse American Legion
REFRESH-INTERVAL;VALUE=DURATION:PT1H
X-Robots-Tag:noindex
X-PUBLISHED-TTL:PT1H
BEGIN:VTIMEZONE
TZID:UTC
BEGIN:STANDARD
TZOFFSETFROM:+0000
TZOFFSETTO:+0000
TZNAME:UTC
DTSTART:20250101T000000
END:STANDARD
END:VTIMEZONE
BEGIN:VEVENT
DTSTART;TZID=UTC:20260212T180000
DTEND;TZID=UTC:20260212T200000
DTSTAMP:20260425T162922
CREATED:20250805T045908Z
LAST-MODIFIED:20250805T050154Z
UID:10000070-1770919200-1770926400@syracuseamericanlegion.com
SUMMARY:Onondaga County February Meeting
DESCRIPTION:Dinner from 5:15 to 6:00 pm. \nGeneral meeting starts at 6:00 pm. \n  \nFOUR CHAPLAINS CEREMONY.
URL:https://syracuseamericanlegion.com/event/onondaga-county-february-meeting/
LOCATION:Eastwood Post 1276\, 3701 James St.\, Syracuse\, NY\, 13206\, United States
ATTACH;FMTTYPE=image/jpeg:https://syracuseamericanlegion.com/wp-content/uploads/2024/03/835-8359541_american-legion-logo.jpeg
END:VEVENT
END:VCALENDAR